BEGIN:VCALENDAR
VERSION:2.0
PRODID:icalendar-ruby
CALSCALE:GREGORIAN
METHOD:PUBLISH
BEGIN:VEVENT
DTSTAMP:20260420T234327Z
UID:17-314195@masonborobaptist.org
DTSTART:20260923T220000Z
DTEND:20260923T230000Z
CLASS:PUBLIC
CREATED:20260420T184213
DESCRIPTION:Wednesday Night Bible study: 6 -7 p.m.  We'll meet in the lib
 rary.
LAST-MODIFIED:20260420T184213
LOCATION:Masonboro Baptist Church
SUMMARY:Wednesday Night Bible Study
URL;VALUE=URI:https://www.masonborobaptist.org/events/wednesday-night-bible
 -study/2026-09-23
ATTACH;FILENAME=Bible-Study-Oct-2025.png;FMTTYPE=image/png:https://dq5pwpg1
 q8ru0.cloudfront.net/2025/09/25/10/25/57/16d32494-ad73-4940-8023-5be843a72
 22d/Bible-Study-Oct-2025.png
END:VEVENT
END:VCALENDAR
