BEGIN:VCALENDAR
VERSION:2.0
PRODID:icalendar-ruby
CALSCALE:GREGORIAN
METHOD:PUBLISH
BEGIN:VEVENT
DTSTAMP:20260420T202913Z
UID:7-313944@masonborobaptist.org
DTSTART:20261025T150000Z
DTEND:20261025T160000Z
CLASS:PUBLIC
CREATED:20260420T160644
DESCRIPTION:Traditional Worship
LAST-MODIFIED:20260420T160644
LOCATION:1501 Beasley Rd. Wilmington\, Nc
SUMMARY:Traditional Worship
URL;VALUE=URI:https://www.masonborobaptist.org/events/traditional-worship/2
 026-10-25
END:VEVENT
END:VCALENDAR
