BEGIN:VCALENDAR
VERSION:2.0
PRODID:icalendar-ruby
CALSCALE:GREGORIAN
METHOD:PUBLISH
BEGIN:VEVENT
DTSTAMP:20260420T062434Z
UID:7-312944@masonborobaptist.org
DTSTART:20260830T150000Z
DTEND:20260830T160000Z
CLASS:PUBLIC
CREATED:20260420T000902
DESCRIPTION:Traditional Worship
LAST-MODIFIED:20260420T000902
LOCATION:1501 Beasley Rd. Wilmington\, Nc
SUMMARY:Traditional Worship
URL;VALUE=URI:https://www.masonborobaptist.org/events/traditional-worship/2
 026-08-30
END:VEVENT
END:VCALENDAR
