BEGIN:VCALENDAR
VERSION:2.0
PRODID:icalendar-ruby
CALSCALE:GREGORIAN
METHOD:PUBLISH
BEGIN:VEVENT
DTSTAMP:20260420T004431Z
UID:7-312743@masonborobaptist.org
DTSTART:20260809T150000Z
DTEND:20260809T160000Z
CLASS:PUBLIC
CREATED:20260419T203152
DESCRIPTION:Traditional Worship
LAST-MODIFIED:20260419T203152
LOCATION:1501 Beasley Rd. Wilmington\, Nc
SUMMARY:Traditional Worship
URL;VALUE=URI:https://www.masonborobaptist.org/events/traditional-worship/2
 026-08-09
END:VEVENT
END:VCALENDAR
