BEGIN:VCALENDAR
VERSION:2.0
PRODID:icalendar-ruby
CALSCALE:GREGORIAN
METHOD:PUBLISH
BEGIN:VEVENT
DTSTAMP:20260419T211023Z
UID:7-312543@masonborobaptist.org
DTSTART:20260726T150000Z
DTEND:20260726T160000Z
CLASS:PUBLIC
CREATED:20260419T164951
DESCRIPTION:Traditional Worship
LAST-MODIFIED:20260419T164951
LOCATION:1501 Beasley Rd. Wilmington\, Nc
SUMMARY:Traditional Worship
URL;VALUE=URI:https://www.masonborobaptist.org/events/traditional-worship/2
 026-07-26
END:VEVENT
END:VCALENDAR
