BEGIN:VCALENDAR
VERSION:2.0
PRODID:icalendar-ruby
CALSCALE:GREGORIAN
METHOD:PUBLISH
BEGIN:VEVENT
DTSTAMP:20260419T191323Z
UID:7-312344@masonborobaptist.org
DTSTART:20260719T150000Z
DTEND:20260719T160000Z
CLASS:PUBLIC
CREATED:20260419T130739
DESCRIPTION:Traditional Worship
LAST-MODIFIED:20260419T130739
LOCATION:1501 Beasley Rd. Wilmington\, Nc
SUMMARY:Traditional Worship
URL;VALUE=URI:https://www.masonborobaptist.org/events/traditional-worship/2
 026-07-19
END:VEVENT
END:VCALENDAR
