BEGIN:VCALENDAR
VERSION:2.0
PRODID:icalendar-ruby
CALSCALE:GREGORIAN
METHOD:PUBLISH
BEGIN:VEVENT
DTSTAMP:20260419T141727Z
UID:7-312144@masonborobaptist.org
DTSTART:20260628T150000Z
DTEND:20260628T160000Z
CLASS:PUBLIC
CREATED:20260419T092535
DESCRIPTION:Traditional Worship
LAST-MODIFIED:20260419T092535
LOCATION:1501 Beasley Rd. Wilmington\, Nc
SUMMARY:Traditional Worship
URL;VALUE=URI:https://www.masonborobaptist.org/events/traditional-worship/2
 026-06-28
END:VEVENT
END:VCALENDAR
