BEGIN:VCALENDAR
VERSION:2.0
PRODID:icalendar-ruby
CALSCALE:GREGORIAN
METHOD:PUBLISH
BEGIN:VEVENT
DTSTAMP:20260419T124934Z
UID:7-311947@masonborobaptist.org
DTSTART:20260621T150000Z
DTEND:20260621T160000Z
CLASS:PUBLIC
CREATED:20260419T040130
DESCRIPTION:Traditional Worship
LAST-MODIFIED:20260419T040130
LOCATION:1501 Beasley Rd. Wilmington\, Nc
SUMMARY:Traditional Worship
URL;VALUE=URI:https://www.masonborobaptist.org/events/traditional-worship/2
 026-06-21
END:VEVENT
END:VCALENDAR
