BEGIN:VCALENDAR
VERSION:2.0
PRODID:icalendar-ruby
CALSCALE:GREGORIAN
METHOD:PUBLISH
BEGIN:VEVENT
DTSTAMP:20260421T013627Z
UID:6-314266@masonborobaptist.org
DTSTART:20261004T130000Z
DTEND:20261004T140000Z
CLASS:PUBLIC
CREATED:20260420T211633
DESCRIPTION:Contemporary Worship
LAST-MODIFIED:20260420T211633
LOCATION:1501 Beasley Rd.  Wilmington\, NC
SUMMARY:Contemporary Worship
URL;VALUE=URI:https://www.masonborobaptist.org/events/contemporary-worship/
 2026-10-04
ATTACH;FILENAME=Tilling-the-Soil-TV.png;FMTTYPE=image/png:https://dq5pwpg1q
 8ru0.cloudfront.net/2026/02/26/13/47/55/4d4dbbc7-df35-4a56-9361-2ace438b8e
 fe/Tilling-the-Soil-TV.png
END:VEVENT
END:VCALENDAR
